BEGIN:VCALENDAR
VERSION:2.0
PRODID:-//Plone.org//NONSGML plone.app.event//EN
X-WR-TIMEZONE:Europe/Madrid
BEGIN:VEVENT
SUMMARY:L'Associació de Comerç &OpenCurlyDoubleQuote;Caldetes 393&CloseCurlyDoubleQuote; surt al carrer per celebrar el Sant Jordi
DTSTART;TZID=Europe/Madrid;VALUE=DATE-TIME:20260419T090000
DTEND;TZID=Europe/Madrid;VALUE=DATE-TIME:20260419T100000
DTSTAMP;VALUE=DATE-TIME:20260422T022456Z
UID:3dbd3bf9e76910c858af65ec95dbe611
CREATED;VALUE=DATE-TIME:20260417T000000Z
CATEGORIES:Festa
LOCATION:Tots els comerços membres de l'entitat
URL:https://caldetes.cat/document.php?id=11055
END:VEVENT
END:VCALENDAR