BEGIN:VCALENDAR
VERSION:2.0
PRODID:-//Plone.org//NONSGML plone.app.event//EN
X-WR-TIMEZONE:Europe/Madrid
BEGIN:VEVENT
SUMMARY:Parada de venda de llibres prop de l'Estanc Daima
DTSTART;TZID=Europe/Madrid;VALUE=DATE-TIME:20260423T080000
DTEND;TZID=Europe/Madrid;VALUE=DATE-TIME:20260423T090000
DTSTAMP;VALUE=DATE-TIME:20260422T200838Z
UID:4ecb93b99664a5fee2c64428f3cb9998
CREATED;VALUE=DATE-TIME:20260423T000000Z
CATEGORIES:Festa
LOCATION:Davant de l'Estanc Daima
COMMENT:Durada: De 8 a 20h
URL:https://caldetes.cat/document.php?id=11058
END:VEVENT
END:VCALENDAR