BEGIN:VCALENDAR
VERSION:2.0
PRODID:-//Plone.org//NONSGML plone.app.event//EN
X-WR-TIMEZONE:Europe/Madrid
BEGIN:VEVENT
SUMMARY:Parada de venda de roses prop del Mercat Municipal
DTSTART;TZID=Europe/Madrid;VALUE=DATE-TIME:20260423T070000
DTEND;TZID=Europe/Madrid;VALUE=DATE-TIME:20260423T080000
DTSTAMP;VALUE=DATE-TIME:20260421T173206Z
UID:10242bce5385eb646d83a1b859e40af7
CREATED;VALUE=DATE-TIME:20260423T000000Z
CATEGORIES:Festa
LOCATION:Prop de l'entrada del mercat Municipal
URL:https://caldetes.cat/document.php?id=11059
END:VEVENT
END:VCALENDAR