BEGIN:VCALENDAR
VERSION:2.0
PRODID:-//Plone.org//NONSGML plone.app.event//EN
X-WR-TIMEZONE:Europe/Madrid
BEGIN:VEVENT
SUMMARY:Parada de venda de llibres de la Colla de Geganters de Caldes d'Estrac
DTSTART;TZID=Europe/Madrid;VALUE=DATE-TIME:20260423T000000
DTEND;TZID=Europe/Madrid;VALUE=DATE-TIME:20260423T010000
DTSTAMP;VALUE=DATE-TIME:20260424T003852Z
UID:19d11f6025e258d997826a867aca3dc6
CREATED;VALUE=DATE-TIME:20260423T000000Z
CATEGORIES:Festa
LOCATION:Entrada del Mercat Municipal
ORGANIZER:Colla de Geganters de Caldes d'Estrac
COMMENT:Durada: Al llarg del matí
URL:https://caldetes.cat/document.php?id=11061
END:VEVENT
END:VCALENDAR