BEGIN:VCALENDAR
VERSION:2.0
PRODID:-//Plone.org//NONSGML plone.app.event//EN
X-WR-TIMEZONE:Europe/Madrid
BEGIN:VEVENT
SUMMARY:Entrega de Premis de la Fase Local de la XLIII Mostra Literària del Maresme
DTSTART;TZID=Europe/Madrid;VALUE=DATE-TIME:20260424T180000
DTEND;TZID=Europe/Madrid;VALUE=DATE-TIME:20260424T190000
DTSTAMP;VALUE=DATE-TIME:20260424T140019Z
UID:484cbd775bf14e7f62d31350165276ff
CREATED;VALUE=DATE-TIME:20260424T000000Z
CATEGORIES:Mostra,Literatura
LOCATION:Sala Cultural - 1r pis de l'Ajuntament de Caldes d'Estrac, Pl. de la Vila s/n
ORGANIZER:Ajuntament de Caldes d'Estrac
URL:https://caldetes.cat/document.php?id=11062
END:VEVENT
END:VCALENDAR