BEGIN:VCALENDAR
VERSION:2.0
PRODID:-//Plone.org//NONSGML plone.app.event//EN
X-WR-TIMEZONE:Europe/Madrid
BEGIN:VEVENT
SUMMARY:Nit de Tapes i Música al Mercat Municipal de Caldes d'Estrac
DTSTART;TZID=Europe/Madrid;VALUE=DATE-TIME:20260425T200000
DTEND;TZID=Europe/Madrid;VALUE=DATE-TIME:20260425T210000
DTSTAMP;VALUE=DATE-TIME:20260425T193219Z
UID:4651221f346d011b500e655ba80c95c9
CREATED;VALUE=DATE-TIME:20260425T000000Z
CATEGORIES:Festa,Música
LOCATION:Mercat Municipal de Caldes d'Estrac
ORGANIZER:Ajuntament de Caldes d'Estrac
COMMENT:Durada: De 20 a 00h
URL:https://caldetes.cat/document.php?id=11063
END:VEVENT
END:VCALENDAR