BEGIN:VCALENDAR
VERSION:2.0
PRODID:-//Plone.org//NONSGML plone.app.event//EN
X-WR-TIMEZONE:Europe/Madrid
BEGIN:VEVENT
SUMMARY:Fira d'Entitats de Caldes d'Estrac
DTSTART;TZID=Europe/Madrid;VALUE=DATE-TIME:20260426T100000
DTEND;TZID=Europe/Madrid;VALUE=DATE-TIME:20260426T110000
DTSTAMP;VALUE=DATE-TIME:20260425T121831Z
UID:447b2f704e0d0728be217fc21c5d8d69
CREATED;VALUE=DATE-TIME:20260426T000000Z
CATEGORIES:Festa
LOCATION:Esplanada Can Muntanyà
ORGANIZER:Ajuntament de Caldes d'Estrac i entitats participants
COMMENT:Durada: De 10 a 14h
URL:https://caldetes.cat/document.php?id=11064
END:VEVENT
END:VCALENDAR