BEGIN:VCALENDAR
VERSION:2.0
PRODID:-//Plone.org//NONSGML plone.app.event//EN
X-WR-TIMEZONE:Europe/Madrid
BEGIN:VEVENT
SUMMARY:TALLER de Barrets de dracs &OpenCurlyDoubleQuote;Un drac fantàstic per portar-lo a passejar&CloseCurlyDoubleQuote;
DTSTART;TZID=Europe/Madrid;VALUE=DATE-TIME:20260426T110000
DTEND;TZID=Europe/Madrid;VALUE=DATE-TIME:20260426T120000
DTSTAMP;VALUE=DATE-TIME:20260423T110848Z
UID:b7c1139d4247ca6cbccd817c18817958
CREATED;VALUE=DATE-TIME:20260426T000000Z
CATEGORIES:Festa
LOCATION:Esplanada Can Muntanyà
ORGANIZER:Taller de Festa l'Obrador
URL:https://caldetes.cat/document.php?id=11066
END:VEVENT
END:VCALENDAR