BEGIN:VCALENDAR
VERSION:2.0
PRODID:-//Plone.org//NONSGML plone.app.event//EN
X-WR-TIMEZONE:Europe/Madrid
BEGIN:VEVENT
SUMMARY:TALLER 12 síl·labes
DTSTART;TZID=Europe/Madrid;VALUE=DATE-TIME:20260426T120000
DTEND;TZID=Europe/Madrid;VALUE=DATE-TIME:20260426T130000
DTSTAMP;VALUE=DATE-TIME:20260421T173235Z
UID:d8589136e5cba4aaeddd3d88764e54fb
CREATED;VALUE=DATE-TIME:20260426T000000Z
CATEGORIES:Festa
LOCATION:Esplanada Can Muntanyà
ORGANIZER:Fundació Palau
URL:https://caldetes.cat/document.php?id=11067
END:VEVENT
END:VCALENDAR