BEGIN:VCALENDAR
VERSION:2.0
PRODID:-//Plone.org//NONSGML plone.app.event//EN
X-WR-TIMEZONE:Europe/Madrid
BEGIN:VEVENT
SUMMARY:Sortim a passejar
DTSTART;TZID=Europe/Madrid;VALUE=DATE-TIME:20110413T000000
DTEND;TZID=Europe/Madrid;VALUE=DATE-TIME:20110413T010000
DTSTAMP;VALUE=DATE-TIME:20260423T203057Z
UID:b1f5f57e815ccc77a0fa6ce42ef95568
CREATED;VALUE=DATE-TIME:20110413T000000Z
ORGANIZER:Àrea de Serveis Socials de l'Ajuntament de Caldes d'Estrac
URL:https://caldetes.cat/document.php?id=1107
END:VEVENT
END:VCALENDAR