BEGIN:VCALENDAR
VERSION:2.0
PRODID:-//Plone.org//NONSGML plone.app.event//EN
X-WR-TIMEZONE:Europe/Madrid
BEGIN:VEVENT
SUMMARY:Partit de Futbol Sala Federat (3a divisió catalana juvenil)
DTSTART;TZID=Europe/Madrid;VALUE=DATE-TIME:20110417T163000
DTEND;TZID=Europe/Madrid;VALUE=DATE-TIME:20110417T173000
DTSTAMP;VALUE=DATE-TIME:20260422T153216Z
UID:23f082e047ea86de9bcbdbb88d0edcda
CREATED;VALUE=DATE-TIME:20110417T000000Z
LOCATION:Pavelló Poliesportiu Municipal
DESCRIPTION:Estrac Serena FS vs Riudellots ACE "A"
URL:https://caldetes.cat/document.php?id=1110
END:VEVENT
END:VCALENDAR