BEGIN:VCALENDAR
VERSION:2.0
PRODID:-//Plone.org//NONSGML plone.app.event//EN
X-WR-TIMEZONE:Europe/Madrid
BEGIN:VEVENT
SUMMARY:Partit de Futbol Sala Federat (preferent catalana)
DTSTART;TZID=Europe/Madrid;VALUE=DATE-TIME:20110417T183000
DTEND;TZID=Europe/Madrid;VALUE=DATE-TIME:20110417T193000
DTSTAMP;VALUE=DATE-TIME:20260425T030123Z
UID:46122c510d5af1e4133d0039f6583c92
CREATED;VALUE=DATE-TIME:20110417T000000Z
LOCATION:Pavelló Poliesportiu Municipal
DESCRIPTION:Caldes d'Estrac Futbol Sala "A" vs Llinars Fs "A"
URL:https://caldetes.cat/document.php?id=1111
END:VEVENT
END:VCALENDAR