BEGIN:VCALENDAR
VERSION:2.0
PRODID:-//Plone.org//NONSGML plone.app.event//EN
X-WR-TIMEZONE:Europe/Madrid
BEGIN:VEVENT
SUMMARY:Inauguració de l'exposició del XIX Taller de Bonsais
DTSTART;TZID=Europe/Madrid;VALUE=DATE-TIME:20110422T120000
DTEND;TZID=Europe/Madrid;VALUE=DATE-TIME:20110422T130000
DTSTAMP;VALUE=DATE-TIME:20260422T140427Z
UID:300521c432560300b033d957705e4e3d
CREATED;VALUE=DATE-TIME:20110422T000000Z
LOCATION:Equipament de Promoció Econòmica i Cultural
ORGANIZER:Associació Amics del Bonsai
URL:https://caldetes.cat/document.php?id=1113
END:VEVENT
END:VCALENDAR