BEGIN:VCALENDAR
VERSION:2.0
PRODID:-//Plone.org//NONSGML plone.app.event//EN
X-WR-TIMEZONE:Europe/Madrid
BEGIN:VEVENT
SUMMARY:8è Torneig de Futbol Sala
DTSTART;TZID=Europe/Madrid;VALUE=DATE-TIME:20110424T090000
DTEND;TZID=Europe/Madrid;VALUE=DATE-TIME:20110424T100000
DTSTAMP;VALUE=DATE-TIME:20260421T174019Z
UID:7cee5c7854691b160ef7ee2a56eb8a6f
CREATED;VALUE=DATE-TIME:20110424T000000Z
LOCATION:Pavelló Poliesportiu Municipal
ORGANIZER:Caldes d'Estrac Futbol Sala
COMMENT:Durada: fins les 22 h
URL:https://caldetes.cat/document.php?id=1115
END:VEVENT
END:VCALENDAR