BEGIN:VCALENDAR
VERSION:2.0
PRODID:-//Plone.org//NONSGML plone.app.event//EN
X-WR-TIMEZONE:Europe/Madrid
BEGIN:VEVENT
SUMMARY:Parada de productes de l'Índia
DTSTART;TZID=Europe/Madrid;VALUE=DATE-TIME:20110410T110000
DTEND;TZID=Europe/Madrid;VALUE=DATE-TIME:20110410T120000
DTSTAMP;VALUE=DATE-TIME:20260423T062652Z
UID:d031a64e3b8415755663e16d1518236d
CREATED;VALUE=DATE-TIME:20110410T000000Z
LOCATION:Esplanada Can Muntanyà
ORGANIZER:Associació "El Somriure dels nens"
DESCRIPTION:a càrrec de l'Associació "El Somriure dels nens"
URL:https://caldetes.cat/document.php?id=1117
END:VEVENT
END:VCALENDAR