BEGIN:VCALENDAR
VERSION:2.0
PRODID:-//Plone.org//NONSGML plone.app.event//EN
X-WR-TIMEZONE:Europe/Madrid
BEGIN:VEVENT
SUMMARY:Hora del conte
DTSTART;TZID=Europe/Madrid;VALUE=DATE-TIME:20110429T180000
DTEND;TZID=Europe/Madrid;VALUE=DATE-TIME:20110429T190000
DTSTAMP;VALUE=DATE-TIME:20260423T090929Z
UID:f2fc68329717a61f07bd759bafd0cd51
CREATED;VALUE=DATE-TIME:20110429T000000Z
LOCATION:Biblioteca Can Milans
ORGANIZER:Biblioteca Can Milans
DESCRIPTION:Títol per determinar, a càrrec de Sílvia Serra
URL:https://caldetes.cat/document.php?id=1120
END:VEVENT
END:VCALENDAR