BEGIN:VCALENDAR
VERSION:2.0
PRODID:-//Plone.org//NONSGML plone.app.event//EN
X-WR-TIMEZONE:Europe/Madrid
BEGIN:VEVENT
SUMMARY:Partit de Futbol Sala Federat (3a divisió catalana)
DTSTART;TZID=Europe/Madrid;VALUE=DATE-TIME:20110430T163000
DTEND;TZID=Europe/Madrid;VALUE=DATE-TIME:20110430T173000
DTSTAMP;VALUE=DATE-TIME:20260423T082203Z
UID:6d78e459bde54f96cdfb902359a1f9d7
CREATED;VALUE=DATE-TIME:20110430T000000Z
LOCATION:Pavelló Poliesportiu Municipal
DESCRIPTION:Básquet Estrac vs CB Calella V
URL:https://caldetes.cat/document.php?id=1121
END:VEVENT
END:VCALENDAR