BEGIN:VCALENDAR
VERSION:2.0
PRODID:-//Plone.org//NONSGML plone.app.event//EN
X-WR-TIMEZONE:Europe/Madrid
BEGIN:VEVENT
SUMMARY:Partit de Futbol Sala Federat (preferent catalana)
DTSTART;TZID=Europe/Madrid;VALUE=DATE-TIME:20110430T183000
DTEND;TZID=Europe/Madrid;VALUE=DATE-TIME:20110430T193000
DTSTAMP;VALUE=DATE-TIME:20260425T122300Z
UID:79e46a574bff9675992b82ef2e3210f1
CREATED;VALUE=DATE-TIME:20110430T000000Z
LOCATION:Pavelló Poliesportiu Municipal
DESCRIPTION:Caldes d'Estrac Futbol Sala vs Lluis Mollet Fripan "A"
URL:https://caldetes.cat/document.php?id=1122
END:VEVENT
END:VCALENDAR