BEGIN:VCALENDAR
VERSION:2.0
PRODID:-//Plone.org//NONSGML plone.app.event//EN
X-WR-TIMEZONE:Europe/Madrid
BEGIN:VEVENT
SUMMARY:Hora del conte en motiu del lliurament de premis de la Mostra Literària
DTSTART;TZID=Europe/Madrid;VALUE=DATE-TIME:20110430T180000
DTEND;TZID=Europe/Madrid;VALUE=DATE-TIME:20110430T190000
DTSTAMP;VALUE=DATE-TIME:20260423T102929Z
UID:4f12fec323654f68928f817b9036f80e
CREATED;VALUE=DATE-TIME:20110430T000000Z
LOCATION:Sala Cultural
ORGANIZER:Ajuntament de Caldes d'Estrac
URL:https://caldetes.cat/document.php?id=1123
END:VEVENT
END:VCALENDAR