BEGIN:VCALENDAR
VERSION:2.0
PRODID:-//Plone.org//NONSGML plone.app.event//EN
X-WR-TIMEZONE:Europe/Madrid
BEGIN:VEVENT
SUMMARY:Diada de Sant Jordi 2011. Sardanes
DTSTART;TZID=Europe/Madrid;VALUE=DATE-TIME:20110423T120000
DTEND;TZID=Europe/Madrid;VALUE=DATE-TIME:20110423T130000
DTSTAMP;VALUE=DATE-TIME:20260421T144154Z
UID:07801098673b56849c6daf3e4de2c7c8
CREATED;VALUE=DATE-TIME:20110423T000000Z
LOCATION:Parc Joan Maragall
ORGANIZER:Ajuntament de Caldes d'Estrac
URL:https://caldetes.cat/document.php?id=1129
END:VEVENT
END:VCALENDAR