BEGIN:VCALENDAR
VERSION:2.0
PRODID:-//Plone.org//NONSGML plone.app.event//EN
X-WR-TIMEZONE:Europe/Madrid
BEGIN:VEVENT
SUMMARY:Sortim a passejar
DTSTART;TZID=Europe/Madrid;VALUE=DATE-TIME:20110518T000000
DTEND;TZID=Europe/Madrid;VALUE=DATE-TIME:20110518T010000
DTSTAMP;VALUE=DATE-TIME:20260426T024751Z
UID:d0fed0816dcd24756a9a6dbd1a2a7646
CREATED;VALUE=DATE-TIME:20110518T000000Z
ORGANIZER:Àrea de Serveis Socials de l'Ajuntament de Caldes d'Estrac
URL:https://caldetes.cat/document.php?id=1154
END:VEVENT
END:VCALENDAR