BEGIN:VCALENDAR
VERSION:2.0
PRODID:-//Plone.org//NONSGML plone.app.event//EN
X-WR-TIMEZONE:Europe/Madrid
BEGIN:VEVENT
SUMMARY:Hora del conte
DTSTART;TZID=Europe/Madrid;VALUE=DATE-TIME:20110513T180000
DTEND;TZID=Europe/Madrid;VALUE=DATE-TIME:20110513T190000
DTSTAMP;VALUE=DATE-TIME:20260426T004737Z
UID:b9bb38cdfc17e058037fba55a357d5b1
CREATED;VALUE=DATE-TIME:20110513T000000Z
LOCATION:Biblioteca Can Milans
ORGANIZER:Biblioteca Can Milans
DESCRIPTION:"A la recerca del so perdut", a càrrec de Lídia Clua
URL:https://caldetes.cat/document.php?id=1155
END:VEVENT
END:VCALENDAR