BEGIN:VCALENDAR
VERSION:2.0
PRODID:-//Plone.org//NONSGML plone.app.event//EN
X-WR-TIMEZONE:Europe/Madrid
BEGIN:VEVENT
SUMMARY:Petanca. Melés
DTSTART;TZID=Europe/Madrid;VALUE=DATE-TIME:20110528T170000
DTEND;TZID=Europe/Madrid;VALUE=DATE-TIME:20110528T180000
DTSTAMP;VALUE=DATE-TIME:20260425T231454Z
UID:236f80ba4ad7925caeaada7b05a4b735
CREATED;VALUE=DATE-TIME:20110528T000000Z
LOCATION:Pistes Municipals de Petanca
ORGANIZER:Club Petanca Caldes d'Estrac
URL:https://caldetes.cat/document.php?id=1160
END:VEVENT
END:VCALENDAR