BEGIN:VCALENDAR
VERSION:2.0
PRODID:-//Plone.org//NONSGML plone.app.event//EN
X-WR-TIMEZONE:Europe/Madrid
BEGIN:VEVENT
SUMMARY:Parada de productes de l'Índia
DTSTART;TZID=Europe/Madrid;VALUE=DATE-TIME:20110612T110000
DTEND;TZID=Europe/Madrid;VALUE=DATE-TIME:20110612T120000
DTSTAMP;VALUE=DATE-TIME:20260422T173642Z
UID:aecec07e2234e9ff3013d8c0f210d99c
CREATED;VALUE=DATE-TIME:20110612T000000Z
LOCATION:Esplanada Can Muntanyà
ORGANIZER:Associació "El Somriure dels nens"
DESCRIPTION:a càrrec de l'Associació "El Somriure dels nens"
URL:https://caldetes.cat/document.php?id=1190
END:VEVENT
END:VCALENDAR