BEGIN:VCALENDAR
VERSION:2.0
PRODID:-//Plone.org//NONSGML plone.app.event//EN
X-WR-TIMEZONE:Europe/Madrid
BEGIN:VEVENT
SUMMARY:Petanca. Melés
DTSTART;TZID=Europe/Madrid;VALUE=DATE-TIME:20110604T180000
DTEND;TZID=Europe/Madrid;VALUE=DATE-TIME:20110604T190000
DTSTAMP;VALUE=DATE-TIME:20260422T225620Z
UID:5e3335d69b6a2b59df588c35a78cbf70
CREATED;VALUE=DATE-TIME:20110604T000000Z
LOCATION:Pistes Municipals de Petanca
ORGANIZER:Club Petanca Caldes d'Estrac
URL:https://caldetes.cat/document.php?id=1191
END:VEVENT
END:VCALENDAR