BEGIN:VCALENDAR
VERSION:2.0
PRODID:-//Plone.org//NONSGML plone.app.event//EN
X-WR-TIMEZONE:Europe/Madrid
BEGIN:VEVENT
SUMMARY:Petanca. Melés
DTSTART;TZID=Europe/Madrid;VALUE=DATE-TIME:20110611T180000
DTEND;TZID=Europe/Madrid;VALUE=DATE-TIME:20110611T190000
DTSTAMP;VALUE=DATE-TIME:20260423T173146Z
UID:88960b146e591e8db4f72e679b693e9c
CREATED;VALUE=DATE-TIME:20110611T000000Z
LOCATION:Pistes Municipals de Petanca
ORGANIZER:Club Petanca Caldes d'Estrac
URL:https://caldetes.cat/document.php?id=1192
END:VEVENT
END:VCALENDAR