BEGIN:VCALENDAR
VERSION:2.0
PRODID:-//Plone.org//NONSGML plone.app.event//EN
X-WR-TIMEZONE:Europe/Madrid
BEGIN:VEVENT
SUMMARY:Sortim a passejar
DTSTART;TZID=Europe/Madrid;VALUE=DATE-TIME:20110608T000000
DTEND;TZID=Europe/Madrid;VALUE=DATE-TIME:20110608T010000
DTSTAMP;VALUE=DATE-TIME:20260423T043653Z
UID:8c1a1e2756318f674b29d46086953a38
CREATED;VALUE=DATE-TIME:20110608T000000Z
ORGANIZER:Àrea de Serveis Socials de l'Ajuntament de Caldes d'Estrac
URL:https://caldetes.cat/document.php?id=1200
END:VEVENT
END:VCALENDAR