BEGIN:VCALENDAR
VERSION:2.0
PRODID:-//Plone.org//NONSGML plone.app.event//EN
X-WR-TIMEZONE:Europe/Madrid
BEGIN:VEVENT
SUMMARY:Curs de sardanes
DTSTART;TZID=Europe/Madrid;VALUE=DATE-TIME:20110612T113000
DTEND;TZID=Europe/Madrid;VALUE=DATE-TIME:20110612T123000
DTSTAMP;VALUE=DATE-TIME:20260423T090104Z
UID:e6cc68f3714094cbaf40d0ff567f36d7
CREATED;VALUE=DATE-TIME:20110612T000000Z
LOCATION:Esplanada Can Muntanyà
ORGANIZER:Agrupació de Pensionistes i Tercera Edat de Caldes d'Estrac amb la col·laboració de l'Ajuntament de Caldes d'Estrac
URL:https://caldetes.cat/document.php?id=1202
END:VEVENT
END:VCALENDAR