BEGIN:VCALENDAR
VERSION:2.0
PRODID:-//Plone.org//NONSGML plone.app.event//EN
X-WR-TIMEZONE:Europe/Madrid
BEGIN:VEVENT
SUMMARY:Revetlla de Sant Joan
DTSTART;TZID=Europe/Madrid;VALUE=DATE-TIME:20110623T220000
DTEND;TZID=Europe/Madrid;VALUE=DATE-TIME:20110623T230000
DTSTAMP;VALUE=DATE-TIME:20260424T154639Z
UID:027111e80255b12c8722495f206fb799
CREATED;VALUE=DATE-TIME:20110623T000000Z
LOCATION:Sala Cultural
ORGANIZER:Agrupació de Pensionistes i Tercera Edat de Caldes d'Estrac
DESCRIPTION:a càrrec de l'Agrupació de Pensionistes i Tercera Edat de Caldes d'Estrac
URL:https://caldetes.cat/document.php?id=1205
END:VEVENT
END:VCALENDAR