BEGIN:VCALENDAR
VERSION:2.0
PRODID:-//Plone.org//NONSGML plone.app.event//EN
X-WR-TIMEZONE:Europe/Madrid
BEGIN:VEVENT
SUMMARY:Festival "Poesia i +"
DTSTART;TZID=Europe/Madrid;VALUE=DATE-TIME:20110626T183000
DTEND;TZID=Europe/Madrid;VALUE=DATE-TIME:20110626T193000
DTSTAMP;VALUE=DATE-TIME:20260423T175921Z
UID:dc99285dc196751f8608c8cf9eb510d9
CREATED;VALUE=DATE-TIME:20110626T000000Z
LOCATION:Punt de sortida: Fundació Palau
ORGANIZER:Fundació Palau i Ajuntament de Caldes d'Estrac amb el suport de la Institució de les Lletres Catalanes de la Generalitat de Catalunya i la Diputació de Barcelona
COMMENT:Preu: gratuït
DESCRIPTION:Ruta literària "Joan Maragall i Caldes" (Any Maragall)
URL:https://caldetes.cat/document.php?id=1217
END:VEVENT
END:VCALENDAR