BEGIN:VCALENDAR
VERSION:2.0
PRODID:-//Plone.org//NONSGML plone.app.event//EN
X-WR-TIMEZONE:Europe/Madrid
BEGIN:VEVENT
SUMMARY:Festival "Poesia i +"
DTSTART;TZID=Europe/Madrid;VALUE=DATE-TIME:20110626T210000
DTEND;TZID=Europe/Madrid;VALUE=DATE-TIME:20110626T220000
DTSTAMP;VALUE=DATE-TIME:20260421T144337Z
UID:ffbb6fc0d86bb6f85e150d25b8d07f9f
CREATED;VALUE=DATE-TIME:20110626T000000Z
LOCATION:Fundació Palau
ORGANIZER:Fundació Palau i Ajuntament de Caldes d'Estrac amb el suport de la Institució de les Lletres Catalanes de la Generalitat de Catalunya i la Diputació de Barcelona
COMMENT:Preu: 6 &euro;
DESCRIPTION:"Amb la paraula cantada", Miquel Pujadó (guitarra i veu)
URL:https://caldetes.cat/document.php?id=1218
END:VEVENT
END:VCALENDAR