BEGIN:VCALENDAR
VERSION:2.0
PRODID:-//Plone.org//NONSGML plone.app.event//EN
X-WR-TIMEZONE:Europe/Madrid
BEGIN:VEVENT
SUMMARY:Festival "Poesia i +"
DTSTART;TZID=Europe/Madrid;VALUE=DATE-TIME:20110701T220000
DTEND;TZID=Europe/Madrid;VALUE=DATE-TIME:20110701T230000
DTSTAMP;VALUE=DATE-TIME:20260422T100426Z
UID:2adae289845bf0ac5e30942ada641ec8
CREATED;VALUE=DATE-TIME:20110701T000000Z
LOCATION:Fundació Palau
ORGANIZER:Fundació Palau i Ajuntament de Caldes d'Estrac amb el suport de la Institució de les Lletres Catalanes de la Generalitat de Catalunya i la Diputació de Barcelona
COMMENT:Preu: 9 &euro;
DESCRIPTION:"Sensualitats" amb Mercè Sampietro i Eduard Iniesta
URL:https://caldetes.cat/document.php?id=1224
END:VEVENT
END:VCALENDAR