BEGIN:VCALENDAR
VERSION:2.0
PRODID:-//Plone.org//NONSGML plone.app.event//EN
X-WR-TIMEZONE:Europe/Madrid
BEGIN:VEVENT
SUMMARY:Festival "Poesia i +"
DTSTART;TZID=Europe/Madrid;VALUE=DATE-TIME:20110701T233000
DTEND;TZID=Europe/Madrid;VALUE=DATE-TIME:20110702T003000
DTSTAMP;VALUE=DATE-TIME:20260422T140306Z
UID:b5b64e94817ec2c34718f71694535870
CREATED;VALUE=DATE-TIME:20110701T000000Z
LOCATION:Fundació Palau
ORGANIZER:Cine Club Caldetes
DESCRIPTION:Cinema: La science des Rêves
URL:https://caldetes.cat/document.php?id=1225
END:VEVENT
END:VCALENDAR