BEGIN:VCALENDAR
VERSION:2.0
PRODID:-//Plone.org//NONSGML plone.app.event//EN
X-WR-TIMEZONE:Europe/Madrid
BEGIN:VEVENT
SUMMARY:Festival "Poesia i +"
DTSTART;TZID=Europe/Madrid;VALUE=DATE-TIME:20110703T200000
DTEND;TZID=Europe/Madrid;VALUE=DATE-TIME:20110703T210000
DTSTAMP;VALUE=DATE-TIME:20260423T120047Z
UID:7ef9cc518753b8c05bb761c879d9671d
CREATED;VALUE=DATE-TIME:20110703T000000Z
LOCATION:Fundació Palau
ORGANIZER:Fundació Palau i Ajuntament de Caldes d'Estrac amb el suport de la Institució de les Lletres Catalanes de la Generalitat de Catalunya i la Diputació de Barcelona
COMMENT:Preu: 9 &euro;
DESCRIPTION:"L'Escala canta i balla"
URL:https://caldetes.cat/document.php?id=1228
END:VEVENT
END:VCALENDAR