BEGIN:VCALENDAR
VERSION:2.0
PRODID:-//Plone.org//NONSGML plone.app.event//EN
X-WR-TIMEZONE:Europe/Madrid
BEGIN:VEVENT
SUMMARY:Festival "Poesia i +"
DTSTART;TZID=Europe/Madrid;VALUE=DATE-TIME:20110703T190000
DTEND;TZID=Europe/Madrid;VALUE=DATE-TIME:20110703T200000
DTSTAMP;VALUE=DATE-TIME:20260421T144206Z
UID:347c088fb8810cf8c843633468cb3a63
CREATED;VALUE=DATE-TIME:20110703T000000Z
LOCATION:Fundació Palau
ORGANIZER:Fundació Palau i Ajuntament de Caldes d'Estrac amb el suport de la Institució de les Lletres Catalanes de la Generalitat de Catalunya i la Diputació de Barcelona
COMMENT:Preu: gratuït
DESCRIPTION:"Com gotes d'aigua" de Joana Raspall, Cia. Cos de Lletra
URL:https://caldetes.cat/document.php?id=1229
END:VEVENT
END:VCALENDAR