BEGIN:VCALENDAR
VERSION:2.0
PRODID:-//Plone.org//NONSGML plone.app.event//EN
X-WR-TIMEZONE:Europe/Madrid
BEGIN:VEVENT
SUMMARY:Festival "Poesia i +"
DTSTART;TZID=Europe/Madrid;VALUE=DATE-TIME:20110708T220000
DTEND;TZID=Europe/Madrid;VALUE=DATE-TIME:20110708T230000
DTSTAMP;VALUE=DATE-TIME:20260421T103219Z
UID:636edbae5465ff6d040399499c79a1bf
CREATED;VALUE=DATE-TIME:20110708T000000Z
LOCATION:Fundació Palau
ORGANIZER:Fundació Palau i Ajuntament de Caldes d'Estrac amb el suport de la Institució de les Lletres Catalanes de la Generalitat de Catalunya i la Diputació de Barcelona
COMMENT:Preu: 6 &euro;
DESCRIPTION:"Nu de tot en l'Univers" de Joan Vinyoli, Cia. Heura Teatre
URL:https://caldetes.cat/document.php?id=1230
END:VEVENT
END:VCALENDAR