BEGIN:VCALENDAR
VERSION:2.0
PRODID:-//Plone.org//NONSGML plone.app.event//EN
X-WR-TIMEZONE:Europe/Madrid
BEGIN:VEVENT
SUMMARY:Festival "Poesia i +"
DTSTART;TZID=Europe/Madrid;VALUE=DATE-TIME:20110708T233000
DTEND;TZID=Europe/Madrid;VALUE=DATE-TIME:20110709T003000
DTSTAMP;VALUE=DATE-TIME:20260425T051238Z
UID:4e92c01bdcd3bc801b17dc9fd5a4cb55
CREATED;VALUE=DATE-TIME:20110708T000000Z
LOCATION:Fundació Palau
ORGANIZER:Fundació Palau i Ajuntament de Caldes d'Estrac amb el suport de la Institució de les Lletres Catalanes de la Generalitat de Catalunya i la Diputació de Barcelona
COMMENT:Preu: gratuït
DESCRIPTION:Portes Obertes al Museu
URL:https://caldetes.cat/document.php?id=1233
END:VEVENT
END:VCALENDAR