BEGIN:VCALENDAR
VERSION:2.0
PRODID:-//Plone.org//NONSGML plone.app.event//EN
X-WR-TIMEZONE:Europe/Madrid
BEGIN:VEVENT
SUMMARY:Petanca. Melés
DTSTART;TZID=Europe/Madrid;VALUE=DATE-TIME:20110709T180000
DTEND;TZID=Europe/Madrid;VALUE=DATE-TIME:20110709T190000
DTSTAMP;VALUE=DATE-TIME:20260423T074357Z
UID:f06504c15a3fc3b5a40bc82b44e979ae
CREATED;VALUE=DATE-TIME:20110709T000000Z
LOCATION:Pistes Municipals de Petanca
ORGANIZER:Club Petanca Caldes d'Estrac
URL:https://caldetes.cat/document.php?id=1244
END:VEVENT
END:VCALENDAR