BEGIN:VCALENDAR
VERSION:2.0
PRODID:-//Plone.org//NONSGML plone.app.event//EN
X-WR-TIMEZONE:Europe/Madrid
BEGIN:VEVENT
SUMMARY:Petanca. Melés golfes
DTSTART;TZID=Europe/Madrid;VALUE=DATE-TIME:20110705T220000
DTEND;TZID=Europe/Madrid;VALUE=DATE-TIME:20110705T230000
DTSTAMP;VALUE=DATE-TIME:20260422T151635Z
UID:92ca5fca375c6ed31129a30fbbe2a09f
CREATED;VALUE=DATE-TIME:20110705T000000Z
LOCATION:Pistes Municipals de Petanca
ORGANIZER:Club Petanca Caldes d'Estrac
URL:https://caldetes.cat/document.php?id=1252
END:VEVENT
END:VCALENDAR