BEGIN:VCALENDAR
VERSION:2.0
PRODID:-//Plone.org//NONSGML plone.app.event//EN
X-WR-TIMEZONE:Europe/Madrid
BEGIN:VEVENT
SUMMARY:Parada de productes de l'Índia
DTSTART;TZID=Europe/Madrid;VALUE=DATE-TIME:20110710T110000
DTEND;TZID=Europe/Madrid;VALUE=DATE-TIME:20110710T120000
DTSTAMP;VALUE=DATE-TIME:20260422T140827Z
UID:fe9f8f9cabb71ae5e14594b03a1de197
CREATED;VALUE=DATE-TIME:20110710T000000Z
LOCATION:Esplanada Can Muntanyà
ORGANIZER:Associació "El Somriure dels nens"
DESCRIPTION:a càrrec de l'Associació "El Somriure dels nens"
URL:https://caldetes.cat/document.php?id=1274
END:VEVENT
END:VCALENDAR