BEGIN:VCALENDAR
VERSION:2.0
PRODID:-//Plone.org//NONSGML plone.app.event//EN
X-WR-TIMEZONE:Europe/Madrid
BEGIN:VEVENT
SUMMARY:Petanca. Melés golfes
DTSTART;TZID=Europe/Madrid;VALUE=DATE-TIME:20110826T220000
DTEND;TZID=Europe/Madrid;VALUE=DATE-TIME:20110826T230000
DTSTAMP;VALUE=DATE-TIME:20260422T180734Z
UID:c0f49fcdc6fbf570e67f934b9152e64c
CREATED;VALUE=DATE-TIME:20110826T000000Z
LOCATION:Pistes Municipals de Petanca
ORGANIZER:Club Petanca Caldes d'Estrac
URL:https://caldetes.cat/document.php?id=1290
END:VEVENT
END:VCALENDAR