BEGIN:VCALENDAR
VERSION:2.0
PRODID:-//Plone.org//NONSGML plone.app.event//EN
X-WR-TIMEZONE:Europe/Madrid
BEGIN:VEVENT
SUMMARY:Simulacre de Salvament de Nàufrags
DTSTART;TZID=Europe/Madrid;VALUE=DATE-TIME:20110709T190000
DTEND;TZID=Europe/Madrid;VALUE=DATE-TIME:20110709T200000
DTSTAMP;VALUE=DATE-TIME:20260423T020221Z
UID:5a458bf0fb8669a0274e9dccf2196b7c
CREATED;VALUE=DATE-TIME:20110709T000000Z
DESCRIPTION:a càrrec de la Creu Roja de Caldes d'Estrac
URL:https://caldetes.cat/document.php?id=1296
END:VEVENT
END:VCALENDAR