BEGIN:VCALENDAR
VERSION:2.0
PRODID:-//Plone.org//NONSGML plone.app.event//EN
X-WR-TIMEZONE:Europe/Madrid
BEGIN:VEVENT
SUMMARY:Sopar geganter
DTSTART;TZID=Europe/Madrid;VALUE=DATE-TIME:20110730T220000
DTEND;TZID=Europe/Madrid;VALUE=DATE-TIME:20110730T230000
DTSTAMP;VALUE=DATE-TIME:20260423T133357Z
UID:c4cfd107aa430e9af83a3eae91a31628
CREATED;VALUE=DATE-TIME:20110730T000000Z
LOCATION:Esplanada Can Muntanyà
ORGANIZER:Colla de Geganters i Grallers de Caldes d'Estrac
URL:https://caldetes.cat/document.php?id=1300
END:VEVENT
END:VCALENDAR