BEGIN:VCALENDAR
VERSION:2.0
PRODID:-//Plone.org//NONSGML plone.app.event//EN
X-WR-TIMEZONE:Europe/Madrid
BEGIN:VEVENT
SUMMARY:Parada de productes de l'Índia
DTSTART;TZID=Europe/Madrid;VALUE=DATE-TIME:20110814T110000
DTEND;TZID=Europe/Madrid;VALUE=DATE-TIME:20110814T120000
DTSTAMP;VALUE=DATE-TIME:20260422T014445Z
UID:ccb55045b1c03be9082b15875d2b5b41
CREATED;VALUE=DATE-TIME:20110814T000000Z
LOCATION:Esplanada Can Muntanyà
ORGANIZER:Associació "El Somriure dels nens"
DESCRIPTION:a càrrec de l'Associació "El Somriure dels nens"
URL:https://caldetes.cat/document.php?id=1311
END:VEVENT
END:VCALENDAR