BEGIN:VCALENDAR
VERSION:2.0
PRODID:-//Plone.org//NONSGML plone.app.event//EN
X-WR-TIMEZONE:Europe/Madrid
BEGIN:VEVENT
SUMMARY:Actuació dels trabucaires de Llinars del Vallès
DTSTART;TZID=Europe/Madrid;VALUE=DATE-TIME:20110903T193000
DTEND;TZID=Europe/Madrid;VALUE=DATE-TIME:20110903T203000
DTSTAMP;VALUE=DATE-TIME:20260423T074230Z
UID:0aa94a51f81e65ba768e4375c1e795c2
CREATED;VALUE=DATE-TIME:20110903T000000Z
LOCATION:Camí Ral
ORGANIZER:Ajuntament de Caldes d'Estrac amb la col·laboració d'Arrels Cultura
URL:https://caldetes.cat/document.php?id=1335
END:VEVENT
END:VCALENDAR