BEGIN:VCALENDAR
VERSION:2.0
PRODID:-//Plone.org//NONSGML plone.app.event//EN
X-WR-TIMEZONE:Europe/Madrid
BEGIN:VEVENT
SUMMARY:Parc mòbil infantil
DTSTART;TZID=Europe/Madrid;VALUE=DATE-TIME:20110908T120000
DTEND;TZID=Europe/Madrid;VALUE=DATE-TIME:20110908T130000
DTSTAMP;VALUE=DATE-TIME:20260422T180856Z
UID:698f99b9d8ac454f4a56162956c860d0
CREATED;VALUE=DATE-TIME:20110908T000000Z
LOCATION:Esplanada Can Muntanyà
ORGANIZER:Ajuntament de Caldes d'Estrac
COMMENT:Durada: de 12 a 14 h i de 17 a 20 h
URL:https://caldetes.cat/document.php?id=1342
END:VEVENT
END:VCALENDAR