BEGIN:VCALENDAR
VERSION:2.0
PRODID:-//Plone.org//NONSGML plone.app.event//EN
X-WR-TIMEZONE:Europe/Madrid
BEGIN:VEVENT
SUMMARY:Espectacle familiar "La litxa del Circ"
DTSTART;TZID=Europe/Madrid;VALUE=DATE-TIME:20110909T180000
DTEND;TZID=Europe/Madrid;VALUE=DATE-TIME:20110909T190000
DTSTAMP;VALUE=DATE-TIME:20260423T115912Z
UID:671bbdc276ed8eb9848b74a83e7fd671
CREATED;VALUE=DATE-TIME:20110909T000000Z
LOCATION:Parc Joan Maragall
ORGANIZER:Ajuntament de Caldes d'Estrac
DESCRIPTION:A càrrec d'UllDistret
URL:https://caldetes.cat/document.php?id=1344
END:VEVENT
END:VCALENDAR