BEGIN:VCALENDAR
VERSION:2.0
PRODID:-//Plone.org//NONSGML plone.app.event//EN
X-WR-TIMEZONE:Europe/Madrid
BEGIN:VEVENT
SUMMARY:Ball popular amb l'orquestra Metropol
DTSTART;TZID=Europe/Madrid;VALUE=DATE-TIME:20110909T233000
DTEND;TZID=Europe/Madrid;VALUE=DATE-TIME:20110910T003000
DTSTAMP;VALUE=DATE-TIME:20260425T002810Z
UID:931cebd8ed36ac0105010ba966222761
CREATED;VALUE=DATE-TIME:20110909T000000Z
LOCATION:Esplanada Can Muntanyà
ORGANIZER:Ajuntament de Caldes d'Estrac
URL:https://caldetes.cat/document.php?id=1345
END:VEVENT
END:VCALENDAR