BEGIN:VCALENDAR
VERSION:2.0
PRODID:-//Plone.org//NONSGML plone.app.event//EN
X-WR-TIMEZONE:Europe/Madrid
BEGIN:VEVENT
SUMMARY:Escumada i xeringada
DTSTART;TZID=Europe/Madrid;VALUE=DATE-TIME:20110910T110000
DTEND;TZID=Europe/Madrid;VALUE=DATE-TIME:20110910T120000
DTSTAMP;VALUE=DATE-TIME:20260423T235423Z
UID:12eac5af889752a927194043a90c8680
CREATED;VALUE=DATE-TIME:20110910T000000Z
LOCATION:Plaça de la Vila
ORGANIZER:Ajuntament de Caldes d'Estrac
DESCRIPTION:a càrrec de Servei de Neteja Pere i Àngel
URL:https://caldetes.cat/document.php?id=1346
END:VEVENT
END:VCALENDAR