BEGIN:VCALENDAR
VERSION:2.0
PRODID:-//Plone.org//NONSGML plone.app.event//EN
X-WR-TIMEZONE:Europe/Madrid
BEGIN:VEVENT
SUMMARY:Torneig Internacional de Petanca
DTSTART;TZID=Europe/Madrid;VALUE=DATE-TIME:20110910T160000
DTEND;TZID=Europe/Madrid;VALUE=DATE-TIME:20110910T170000
DTSTAMP;VALUE=DATE-TIME:20260422T153312Z
UID:25a8b887f316722dd97e438c36ec504a
CREATED;VALUE=DATE-TIME:20110910T000000Z
LOCATION:Pistes Municipals de Petanca
ORGANIZER:Club Petanca Caldes d'Estrac
URL:https://caldetes.cat/document.php?id=1347
END:VEVENT
END:VCALENDAR